Workbook

Sheet Menu
A1: ACCT 212: Course Project
A2: Requirement | B2: Requirement Description | C2: Worksheet Name
A3: 1 | B3: Prepare the Journal Entries in the General Journal | C3: 1 - Journal Entries
A4: 2 | B4: Post Journal Entries to the General Ledger | C4: 2 - General Ledger
A5: 3 | B5: Prepare a Trial Balance | C5: 3 - Trial Balance
A6: 4 | B6: Prepare the Adjusting Entries | C6: 4 &5 - Adjusting Entries
A7: 5 | B7: Post Adjusting Entries to the General Ledger | C7: 4 &5 -Adjusting Entries ( Use worksheet #2)
A8: 6 | B8: Prepare an Adjusted Trial Balance | C8: 6- Adjusted TB
A9: 7 | B9: Prepare the Financial Statements | C9: 7 - Financial Statements
A10: 8 | B10: Prepare the Closing Entries | C10: 8&9 - Closing Entries ( use worksheet #2)
A11: 9 | B11: Post Closing Entries to the General Ledger | C11: 8&9- General Ledger
A12: 10 | B12: Prepare the Post Closing Trial Balance | C12: 10 - Post Closing Trial Balance
A13: 11 | B13: Compute Ratios | C13: 11-Ratios
A14: 12 | B14: Interpret the Ratios | C14: 12-Interpretation of Ratios

Sheet Project Instructions
B1: Course Project Overview
C2: The Course Project consists of 10 Requirements for you to complete. The Course Project is due at the end of Week 6. See the Syllabus section ”Due Dates for Assignments & Exams” for due date information. All of the information you need to complete the Course Project is located in this Workbook. • There are eight worksheets in the workbook you will need to complete. • A list of March transactions • A Chart of Accounts reference sheet • A Grading Rubric to help explain what is expected. • Each worksheet has the Check Figures embedded as a comment.
B4: Scenario
C5: You’ve just secured a new client in your accounting practice, Bethany's Bicycle Corporation (BBC), a brand new small business specializing in bicycle repair. The owner, Bethany Beck, is a terrific cyclist and bike repair specialist, but definitely not an accountant. Your job is to helpBethany put his affairs in order. Luckily Bethany has only been in operation for a month and things have not gotten too out of hand yet! Bethany has to submit his financial statements to her investors and doesn’t know where to begin. It’s your job to go through the complete Accounting cycle to prepare the financial statements for the BBC.
B7: Requirements
B29: Guidelines
C31: Use the embedded assistance in the template, guidance in your textbook, and examples in the weekly lectures to complete this project. Should you have any questions contact your professor.
C32: Milestone 1 is due in Week 3 - This includes project requirements 1-3.
C33: Milestone 2 is due in Week 5 - This includes project requirements 4-10.
C34: Milestone 3 is due in Week 7 - This includes project requirements 11-12.

Sheet March Transactions
B1: During its first month of operation, the Bethany's Bicycle Corporation, which specializes in bicycle repairs, completed the following transactions.
B3: March Transactions
B4: Date | C4: Transaction Description
B5: March 1 | C5: Began business by making a deposit in a company bank account of $20,000, in exchange for 2,000 shares of $10 par value common stock.
B6: March 1 | C6: Paid the premium on a 1-year insurance policy, $2,400.
B7: March 1 | C7: Paid the current month's store rent expense, $1,900.
B8: March 3 | C8: Purchased repair equipment from Andrew Company, $5,800. Paid $1,000 down and the balance was placed on account. Payments will be $400.00 per month for 12 months. The first payment is due 4/1. Note: Use Accounts Payable for the Balance Due.
B9: March 8 | C9: Purchased repair supplies from Jackson Company on credit, $650.
B10: March 10 | C10: Paid telephone bill for March, $340.
B11: March 11 | C11: Cash bicycle repair revenue for the first third of March, $1,650.
B12: March 18 | C12: Made payment to Jackson Company, $400.
B13: March 20 | C13: Cash bicycle repair revenue for the second third of March, $2,450.
B14: March 31 | C14: Cash bicycle repair revenue for the last third of March, $1,250.
B15: March 31 | C15: Paid the current month's electice bill, $250.
B16: March 31 | C16: Declared and paid cash dividend of $1,000.

Sheet Chart of Accounts
B1: Use the following account descriptions for journal entries.
B3: Chart of Accounts
B4: Account Type | C4: Account Number | D4: Account Title | E4: Normal Balance
B5: Assets
C6: 111 | D6: Cash | E6: Debit
C7: 117 | D7: Prepaid Insurance | E7: Debit
C8: 119 | D8: Repair Supplies | E8: Debit
C9: 144 | D9: Repair Equipment | E9: Debit
C10: 145 | D10: Accum Dep -Repair Equipment | E10: Credit
B12: Liabilities
C13: 212 | D13: Accounts Payable | E13: Credit
C14: 213 | D14: Income Tax Payable | E14: Credit
B16: Stockholders Equity
C17: 311 | D17: Common Stock | E17: Credit
C18: 312 | D18: Retained Earnings | E18: Credit
C19: 313 | D19: Dividends | E19: Debit
B21: Revenue
C22: 411 | D22: Bicycle Repair Revenue | E22: Credit
B24: Expenses
C25: 511 | D25: Store Rent Expense | E25: Debit
C26: 512 | D26: Telephone Expense | E26: Debit
C27: 513 | D27: Insurance Expense | E27: Debit
C28: 514 | D28: Repair Supplies Expense | E28: Debit
C29: 515 | D29: Dep Expense - Repair Equipment | E29: Debit
C30: 516 | D30: Income Tax Expense | E30: Debit
C31: 517 | D31: Electric Expense | E31: Debit

Sheet 1 - Journal Entries
A1: REQUIREMENT #1: Prepare journal entries to record the March transactions in the General Journal below. Remember that Debits must equal Credits—All of your Journal Entries should balance.
A2: General Journal
A3: Date | B3: Account Number from Chart of Accounts tab | C3: Account Title from Chart of Accounts tab | D3: Debit | E3: Credit
A4: 43525 | B4: 111 | C4: Cash | D4: 20000
A5: 43525 | B5: 311 | C5: Common Stock | E5: 20000
A6: 43525 | B6: 117 | C6: Prepaid Insurance | D6: 2400
A7: 43525 | B7: 111 | C7: cash | E7: 2400
A8: 43525 | B8: 511 | C8: Store Rent Expense | D8: 1900
A9: 43525 | B9: 111 | C9: Cash | E9: 1900
A10: 43527 | B10: 114 | C10: Repair Equipment | D10: 5800 | G10: =5350-D8-D15-D25-D27-G14-200 -> 1660
A11: 43527 | B11: 111 | C11: Cash | E11: 1000
A12: 43527 | B12: 212 | C12: Accounts Payable | E12: =D10-E11 -> 4800
A13: 43532 | B13: 119 | C13: Repair Supplies | D13: 650
A14: 43532 | B14: 212 | C14: Accounts Payable | E14: 650
A15: 43534 | B15: 512 | C15: Telephone Expense | D15: 340
A16: 43534 | B16: 111 | C16: Cash | E16: 340
A17: 43535 | B17: 111 | C17: Cash | D17: 1650
A18: 43535 | B18: 411 | C18: Bicycle Repair Revenue | E18: 1650
A19: 43542 | B19: 212 | C19: Accounts Payable | D19: 400
A20: 43542 | B20: 111 | C20: Cash | E20: 400
A21: 43544 | B21: 111 | C21: Cash | D21: 2450
A22: 43544 | B22: 411 | C22: Bicycle Repair Revenue | E22: 2450
A23: 43555 | B23: 111 | C23: Cash | D23: 1250
A24: 43555 | B24: 411 | C24: Bicycle Repair Revenue | E24: 1250
A25: 43555 | B25: 517 | C25: Electric Expense | D25: 250
A26: 43555 | B26: 111 | C26: Cash | E26: 250
A27: 43555 | B27: 313 | C27: Dividends | D27: 1000
A28: 43555 | B28: 111 | C28: Cash | E28: 1000
D48: =SUM(D4:D47) -> 38090 | E48: =SUM(E4:E47) -> 38090

Sheet 2 - General Ledger
B1: REQUIREMENT #2: Post the March journal entries to the following T-Accounts and compute ending balances.
A3: Date | B3: Cash (111) | E3: Date | F3: Bicycle Repair Revenue (411)
A4: 43525 | B4: 20000 | E4: 43535 | G4: 1650
A5: 43525 | C5: 2400 | E5: 43544 | G5: 2450
A6: 43525 | C6: 1900 | E6: 43555 | G6: 1250
A7: 43527 | C7: 1000 | F7: 0 | G7: =SUM(G4:G6) -> 5350
A8: 43534 | C8: 340 | E8: 43555 | G8: =G7-F7 -> 5350
A9: 43535 | B9: 1650
A10: 43542 | C10: 400
A11: 43544 | B11: 2450
A12: 43555 | B12: 1250
A13: 43555 | C13: 250
A14: 43555 | C14: 1000
B15: =SUM(B4:B14) -> 25350 | C15: =SUM(C4:C14) -> 7290
A16: 43555 | B16: =B15-C15 -> 18060
A17: 43555 | B17: 450
B18: =B16+B17 -> 18510
B21: Prepaid Insurance (117) | F21: Store Rent Expense (511)
A22: 43525 | B22: 2400 | E22: 43525 | F22: 1900
B24: 2400 | C24: 0 | F24: 1900 | G24: 0
A25: 43555 | B25: =B24-C24 -> 2400 | E25: 43555 | F25: =F24-G24 -> 1900
A26: 43555 | C26: 200
B27: 2400 | C27: 200
B28: =B27-C27 -> 2200
B31: Repair Supplies (119) | F31: Telephone Expense (512)
A32: 43532 | B32: 650 | E32: 43534 | F32: 340
B33: 650 | C33: 0 | F33: 340 | G33: 0
A34: 43555 | B34: 650 | E34: 43555 | F34: 340
A35: 43555 | C35: 450
B36: =B34-C35 -> 200
B39: Repair Equipment (144) | F39: Insurance Expense (513)
A40: 43527 | B40: 5800 | E40: 43525 | F40: 0
B41: 5800 | C41: 0 | F41: 0 | G41: 0
A42: 43555 | B42: =B41-C41 -> 5800 | E42: 43555 | F42: =F41-G41 -> 0
A43: 43555 | C43: 120 | E43: 43555 | F43: 200
B44: 5800 | C44: 120 | E44: 43555 | F44: 200
B45: =B44-C44 -> 5680
B47: Accum. Depr.-Repair Equipment (145) | F47: Repair Supplies Expense (514)
A48: 43555 | C48: 120 | E48: 43532 | F48: 650
B49: 0 | C49: 120 | F49: 650 | G49: 0
...

Sheet 3 - Trial Balance
A1: REQUIREMENT #3: Prepare a trial balance for March in the space below.
A2: Bethany's Bicycle Corporation Trial Balance March 31
A3: Account | B3: Account | C3: Balance
A4: Number | B4: Title | C4: Debit | D4: Credit
A5: 111 | B5: Cash | C5: 18060
A6: 411 | B6: Bycicle Repair | D6: 5350
A7: 117 | B7: Prepaid Insurance | C7: 2400
A8: 511 | B8: Store rent expense | C8: 1900
A9: 119 | B9: Repair Supply | C9: 650
A10: 512 | B10: Telephone expense | C10: 340
A11: 144 | B11: Repair equipment | C11: 5800
A12: 514 | B12: Repair supply | C12: 650
A13: 212 | B13: Accounts Payable | D13: 5050
A14: 311 | B14: Common stock | D14: 20000
A15: 517 | B15: Electric expense | C15: 250
A16: 313 | B16: Dividends | C16: 1000
A17: 312 | B17: Income tax payable | D17: 650 | G17: =C36-D36 -> 0
C36: =SUBTOTAL(109,C5:C35) -> 31050 | D36: =SUBTOTAL(109,D5:D35) -> 31050

Sheet 4&5 Adjusting Entries
A1: Requirement #4: Prepare adjusting entries using the following information in the General Journal below. Show your calculations! a) One month's insurance has expired. b) The remaining inventory of repair supplies is $200. c) The estimated depreciation on repair equipment is $120. d) The estimated income taxes are $65.
A2: Requirement #5: Post the adjusting entries on March 31 below to the General Ledger T-accounts (Step 2) and compute adjusted balances. Just add to the balances that are already listed.
A3: Requirement #4
A4: Date | B4: Account Number from Chart of Accounts tab | C4: Account Title from Chart of Accounts tab | D4: Debit | E4: Credit
A5: 43555 | B5: 513 | C5: Insurance expense | D5: =2400/12 -> 200
A6: 43555 | B6: 117 | C6: Prepaid Insurance | E6: =2400/12 -> 200
A7: 43555 | B7: 111 | C7: Cash | D7: =650-200 -> 450
A8: 43555 | B8: 119 | C8: Repair supplies | E8: =650-200 -> 450
A9: 43555 | B9: 515 | C9: Dep Expense - Repair Equipment | D9: 120
A10: 43555 | B10: 144 | C10: Repair Equipment | E10: 120
A11: 43555 | B11: 516 | C11: Income Tax Expense | D11: 65
A12: 43555 | B12: 213 | C12: Income Tax Payable | E12: 65
D25: =SUM(D5:D24) -> 835 | E25: =SUM(E5:E24) -> 835

Sheet 6 - Adjusted TB
A1: REQUIREMENT #6: Prepare an Adjusted Trial Balance in the space below.
A2: Bethany's BicycleCorporation Adjusted Trial Balance March 31
A3: Account | B3: Account | C3: Balance
A4: Number | B4: Title | C4: Debit | D4: Credit
A5: 111 | B5: Cash | C5: ='2 - General Ledger'!B18 -> 18510
A6: 411 | B6: Bycicle Repair | D6: ='2 - General Ledger'!G8 -> 5350
A7: 117 | B7: Prepaid Insurance | C7: ='2 - General Ledger'!B28 -> 2200
A8: 511 | B8: Store rent expense | C8: ='2 - General Ledger'!F25 -> 1900
A9: 119 | B9: Repair Supply | C9: ='2 - General Ledger'!B36 -> 200
A10: 512 | B10: Telephone expense | C10: ='2 - General Ledger'!F34 -> 340
A11: 144 | B11: Repair equipment | C11: ='2 - General Ledger'!B45 -> 5680
A12: 513 | B12: Insurance Expense | C12: 200
A13: 514 | B13: Repair supply | C13: ='2 - General Ledger'!B36 -> 200
A14: 212 | B14: Accounts Payable | D14: ='2 - General Ledger'!C61 -> 5050
A15: 311 | B15: Common stock | D15: 20000
A16: 517 | B16: Electric expense | C16: ='2 - General Ledger'!F75 -> 250
A17: 313 | B17: Dividends | C17: 1000
A18: 312 | B18: retained Earnings | D18: ='7 - Financial Statements'!F12 -> 825
A19: 145 | B19: Accumulated depreciation | D19: 120
A20: 515 | B20: Depreciation | C20: 120
A21: 516 | B21: Income tax | C21: 65
A22: 213 | B22: Income taxes payable | D22: 65
C37: =SUM(C4:C36) -> 30665 | D37: =SUM(D4:D36) -> 31410 | F37: =Table11132[[#This Row],[Credit]]-Table11132[[#This Row],[Debit]] -> 745

Sheet 7 - Financial Statements
A1: Requirement #7: Prepare the financial statements for Bethany's Bicycle Corporation as of March 31 in the space below. You will only be preparing the Income Statement, Statement of Retained Earning, and the Balance Sheet. The Statement of Cash Flows is a required Financial Statement, but is not required for this project.
A4: Bethany's Bicycle Corporation | E4: Bethany's Bicycle Corporation | H4: Bethany's Bicycle Corporation
A5: Income Statement | E5: Statement of Retained Earnings | H5: Balance Sheet
A6: For the Month Ending March 31 | E6: For the Month Ending March 31 | H6: March 31
A8: Revenues: | C8: ='2 - General Ledger'!G7 -> 5350 | E8: Retained Earnings, March 1 | F8: 0 | H8: Assets: | I8: ='2 - General Ledger'!B26 -> 0
A9: Bicycle Repair Revenue | B9: ='2 - General Ledger'!G8 -> 5350 | E9: Add: Net Income | F9: =C22 -> 1825 | H9: Cash | I9: 18510
A10: Total Revenue | B10: ='2 - General Ledger'!G9 -> 0 | C10: =C8 -> 5350 | E10: Subtotal | F10: =F9+F8 -> 1825 | H10: Prepaid Insurance | I10: ='2 - General Ledger'!B28 -> 2200
B11: ='2 - General Ledger'!G10 -> 0 | E11: Less: Dividends | F11: ='2 - General Ledger'!B90 -> 1000 | H11: Repair Supplies | I11: 200
A12: Expenses: | B12: ='2 - General Ledger'!G11 -> 0 | E12: Retained Earnings, March 31 | F12: =F10-F11 -> 825 | H12: Repair Equipment | I12: 5680
A13: Store Rent Expense | B13: ='2 - General Ledger'!F25 -> 1900 | H13: Less: Accum. Depr. | I13: 120
A14: Telephone Expense | B14: ='2 - General Ledger'!F34 -> 340 | H14: Total Assets | I14: =SUM(I9:I12)-I13 -> 26470
A15: Insurance Expense | B15: ='2 - General Ledger'!F44 -> 200
A16: Repair Supplies Exp. | B16: ='2 - General Ledger'!F50 -> 650 | H16: Liabilities and Stockholders' Equity
A17: Depreciation Exp. | B17: ='2 - General Ledger'!F59 -> 120 | H17: Liabilities: | I17: ='2 - General Ledger'!B35 -> 0
A18: Income Taxes Expense | B18: ='2 - General Ledger'!F67 -> 65 | H18: Accounts Payable | I18: 5050
A19: Electric Expense | B19: ='2 - General Ledger'!F75 -> 250 | H19: Income Taxes Payable | I19: 65
A20: Total Expenses | B20: =SUM(B13:B19) -> 3525 | C20: =Table415[[#This Row],[Column2]] -> 3525 | H20: Total Liabilities | I20: =I19+I18 -> 5115
B21: ='2 - General Ledger'!G20 -> 0
A22: Net Income | B22: ='2 - General Ledger'!G21 -> 0 | C22: =C10-C20 -> 1825 | H22: Stockholders' Equity:
H23: Common Stock | I23: 20000
H24: Retained Earnings | I24: =F12 -> 825
H25: Total Stockholders' Equity | I25: =I24+I23 -> 20825
H27: Total Liabilities & Stockholders' Equity | I27: =I25+I20 -> 25940

Sheet 8&9- Closing Entries
A1: Requirement #8: Prepare the closing entries at March 31 in the General Journal below. Hint:Use the balances for each account which appear on the Adjusted Trial Balance for your closing entries.
A2: Requirement #9: Post the closing entries to the T-Accounts on the General Ledger ( Step 2) worksheet and compute ending balances. Just add to the adjusted balances already listed.
A3: General Journal
A4: Date | B4: Account Number from Chart of Accounts tab | C4: Account Title from Chart of Accounts tab | D4: Debit | E4: Credit
A5: 43555 | B5: 111 | C5: Cash | D5: 18510
A6: 43555 | B6: 411 | C6: Bycicle Repair | E6: 5350
A7: 43555 | B7: 117 | C7: Prepaid Insurance | D7: 2200
A8: 43555 | B8: 511 | C8: Store rent expense | D8: =Table11132[[#This Row],[Debit]] -> 1900
A9: 43555 | B9: 119 | C9: Repair Supply | D9: =Table11132[[#This Row],[Debit]] -> 200
A10: 43555 | B10: 512 | C10: Telephone expense | D10: 340
A11: 43555 | B11: 144 | C11: Repair equipment | D11: =Table11132[[#This Row],[Debit]] -> 5680
A12: 43555 | B12: 513 | C12: Insurance Expense | D12: =Table11132[[#This Row],[Debit]] -> 200
A13: 43555 | B13: 514 | C13: Repair supply | D13: 200
A14: 43555 | B14: 212 | C14: Accounts Payable | E14: 5050
A15: 43555 | B15: 311 | C15: Common stock | E15: 20000
A16: 43555 | B16: 517 | C16: Electric expense | D16: =Table11132[[#This Row],[Debit]] -> 250
A17: 43555 | B17: 313 | C17: Dividends | D17: 1000
A18: 43555 | B18: 312 | C18: retained Earnings | E18: ='7 - Financial Statements'!G12 -> 0
A19: 43555 | B19: 145 | C19: Accumulated depreciation | E19: 120
A20: 43555 | B20: 515 | C20: Depreciation | D20: 120
A21: 43555 | B21: 516 | C21: Income tax | D21: 65
A22: 43555 | B22: 213 | C22: Income taxes payable | E22: 65
D37: =SUM(D5:D36) -> 30665 | E37: =SUM(E5:E36) -> 30585

Sheet 10- Post Closing Trial Balance
A1: Requirement #10: Prepare a post-closing trial balance as of March 31 in the space below.
A2: Bethany's Bicycle Corporation Post-Closing Trial Balance March 31
A3: Account | B3: Account | C3: Balance
A4: Number | B4: Title | C4: Debit | D4: Credit
A5: 111 | B5: Cash | C5: ='2 - General Ledger'!B18 -> 18510
A6: 411 | B6: Bycicle Repair | D6: ='2 - General Ledger'!G8 -> 5350
A7: 117 | B7: Prepaid Insurance | C7: ='2 - General Ledger'!B28 -> 2200
A8: 511 | B8: Store rent expense | C8: ='2 - General Ledger'!F25 -> 1900
A9: 119 | B9: Repair Supply | C9: ='2 - General Ledger'!B36 -> 200
A10: 512 | B10: Telephone expense | C10: ='2 - General Ledger'!F34 -> 340
A11: 144 | B11: Repair equipment | C11: ='2 - General Ledger'!B45 -> 5680
A12: 513 | B12: Insurance Expense | C12: 200
A13: 514 | B13: Repair supply | C13: ='2 - General Ledger'!B36 -> 200
A14: 212 | B14: Accounts Payable | D14: ='2 - General Ledger'!C61 -> 5050
A15: 311 | B15: Common stock | D15: 20000
A16: 517 | B16: Electric expense | C16: ='2 - General Ledger'!F75 -> 250
A17: 313 | B17: Dividends | C17: 1000
A18: 312 | B18: retained Earnings | D18: ='7 - Financial Statements'!F12 -> 825
A19: 145 | B19: Accumulated depreciation | D19: 120
A20: 515 | B20: Depreciation | C20: 120
A21: 516 | B21: Income tax | C21: 65
A22: 213 | B22: Income taxes payable | D22: 65
C37: =SUM(C5:C36) -> 30665 | D37: =SUM(D5:D36) -> 31410

Sheet 11- Ratios
B3: Requirement #11: Ratios
B5: Using the data from Income Statement and Balance Sheet prepared by you in step 7 compute the following ratios.
B10: Current Ratio
C11: Formula | D11: Computation
B17: Leverage Ratio
C18: Formula | D18: Computation
B23: Assets Turnover Ratio
C25: Formula | D25: Computation
B32: Net Profit Margin Ratios
C33: Formula | D33: Computation
B44: Rate of Return on Total Assets
C46: Formula | D46: Computation

Sheet 12- Interpretation of Ratios
B5: Requirement #12: Interpret the ratios computed in step 11. Your interpretation should include the definition of the ratio,its managerial use and how does it reflect the operating performance and financial health of the company.
B9: Liquidity Ratios
B37: Solvency Ratios
B58: Profitability Ratios

Sheet Grading Rubric (2)
A7: Course Project Grading Rubric - Students
A9: Criteria | C9: Excellent | D9: Good | E9: Fair | F9: Poor | G9: Unacceptable | H9: Points Available
A11: Milestone 1 | B11: Step 1 —Journal Entries | C11: Journal entries use accurate accounts and amounts; and debits and credits are used correctly. | D11: Journal entries mostly use accurate accounts and amounts; and debits and credits are used correctly. | E11: Journal entries have some errors in use of accounts and amounts; and debits and credits are only somewhat used correctly. | F11: Journal entries have some errors in use of accounts and amounts; and debits and credits are not used correctly. | G11: The submission does not meet this requirement.
B12: Step 1 Grading Scale | C12: 20-18 | D12: 17-16 | E12: 15-14 | F12: 13-12 | G12: 11-0 | H12: 20
A13: Milestone 1 | B13: Step 2 Ledger Posting and Balancing | C13: 1.Posting is done in the correct accounts and at the correct side (Dr./Cr.) and balances are correct. | D13: Posting is done mostly in the correct accounts and mostly at the correct side(Dr./Cr.) and balances are mostly correct. | E13: Posting has errors with incorrect accounts and incorrect debits/credits and incorrect balances. | F13: Listing of accounts is mostly incorrect with most incorrect accounts and incorrect Dr./Cr. Most ledger balances are incorrect. Or posting is not done at all. | G13: The submission does not meet this requirement.
B14: Step 2 Grading Scale | C14: 16-14 | D14: 13-12 | E14: 11-10 | F14: 9 | G14: 8-0 | H14: 16
A15: Milestone 1 | B15: Steps 3 - Unadjusted Trial Balance | C15: 1.Accounts are listed correctly leading to an accurate trial balance. | D15: 1.Most accounts are listed correctly leading to a mostly correct trial balance. 2. Few errors in Voice Thread or narrated power point presentation and average presentation skills. | E15: Listing of accounts has several errors leading to incorrect trial balance. 2.Several errors in Voice Thread or narrated power point presentation and below average presentation skills. | F15: 1.Listing of accounts is done poorly or not at all, leading to inaccurate or no trial balance.2.Very poor or no Voice Thread or narrated power point presentation | G15: The submission does not meet this requirement.
B16: Step 3 Grading Scale | C16: 10-9 | D16: 8 | E16: 7 | F16: 6 | G16: 5-0 | H16: 10
A17: Milestone 1 | B17: CO2 - Given economic transactions and events, analyze and record them leading to the development and analysis of a trial balance and reports important for decision-making. | C17: The student's submission fully analyzes and records all transactions, and provides a complete and accurate trial balance. | D17: The student's submission properly analyzes and records the given transactions, and provides a trial balance that is accurate based on the entries recorded. | E17: The student's submission demonstrates analysis and recording of transactions, although several analysis errors exist, leading to a trial balance that is somewhat inaccurate. | F17: The student's submission demonstrates limited analysis and recording of transactions, and significant errors exist, leading to an inaccurate or incomplete trial balance. | G17: The student's submission does not meet the criteria of the outcome.
B18: CO 2 Grading Scale | C18: 4 | D18: 3 | E18: 2 | F18: 1 | G18: 0 | H18: 4
A19: Milestone 2 | B19: Step 4 —Adjusting Journal Entries | C19: Journal entries use accurate accounts and amounts; and debits and credits are used correctly. | D19: Journal entries mostly use accurate accounts and amounts; and debits and credits are used correctly. | E19: Journal entries have some errors in use of accounts and amounts; and debits and credits are only somewhat used correctly. | F19: Journal entries have some errors in use of accounts and amounts; and debits and credits are not used correctly. | G19: The submission does not meet this requirement.
B20: Step 4 Grading Scale | C20: 16-15 | D20: 14-13 | E20: 12-11 | F20: 10-9 | G20: 8-0 | H20: 20
A21: Milestone 2 | B21: Steps 5 and 6 —Posted and Adjusted Trial Balance. | C21: Posting is correct leading to an accurate trial balance. | D21: Posting is mostly correct leading to a mostly correct trial balance. | E21: Posting has several errors leading to a trial balance with several errors. | F21: Posting is done poorly or not at all, leading to inaccurate or no trial balance. | G21: The submission does not meet this requirement.
B22: Steps 5/6 Grading Scale | C22: 20-18 | D22: 17-16 | E22: 15-14 | F22: 13-12 | G22: 11-0 | H22: 10
A23: Milestone 2 | B23: Step 7.1 - Income Statement | C23: The income statement is prepared accurately and in an appropriate format. | D23: The income statement is prepared accurately and mostly in an appropriate format, but may have some minor errors. | E23: The income statement is prepared with several errors, but is prepared in an appropriate format. | F23: The income statement is prepared with significant errors, using an inappropriate format. | G23: The submission does not meet this requirement.
B24: Step 7.1 Grading Scale | C24: 10-9 | D24: 8 | E24: 7 | F24: 6 | G24: 5-0 | H24: 10
A25: Milestone 2 | B25: Step 7.2 -Retained Earnings Statement | C25: The retained earnings statement is prepared accurately and in an appropriate format. | D25: The retained earnings statement is prepared accurately and mostly in an appropriate format, but may have some minor errors. | E25: The retained earnings statement is prepared with several errors, but is prepared in an appropriate format. | F25: The retained earnings statement is prepared with significant errors, using an inappropriate format. | G25: The submission does not meet this requirement.
B26: Step 7.2 Grading Scale | C26: 6 | D26: 5 | E26: 4 | F26: 3 | G26: 2-0 | H26: 6
A27: Milestone 2 | B27: Step 7.3 - Balance Sheet | C27: The balance sheet is prepared accurately and in an appropriate format. | D27: The balance sheet is prepared accurately and mostly in an appropriate format, but may have some minor errors. | E27: The balance sheet is prepared with several errors, but is prepared in an appropriate format. | F27: The balance sheet is prepared with significant errors, using an inappropriate format. | G27: The submission does not meet this requirement.
B28: Step 7.3 Grading Scale | C28: 10-9 | D28: 8 | E28: 7 | F28: 6 | G28: 5-0 | H28: 10
A29: Milestone 2 | B29: Step 8 —Closing Journal Entries | C29: Journal entries use accurate accounts and amounts; and debits and credits are used correctly. | D29: Journal entries mostly use accurate accounts and amounts; and debits and credits are used correctly. | E29: Journal entries have some errors in use of accounts and amounts; and debits and credits are only somewhat used correctly. | F29: Journal entries have some errors in use of accounts and amounts; and debits and credits are not used correctly. | G29: The submission does not meet this requirement.
B30: Step 8 Grading Scale | C30: 20-18 | D30: 17-16 | E30: 15-14 | F30: 13-12 | G30: 11-0 | H30: 20
A31: Milestone 2 | B31: Steps 9 and 10 —Posted and Post-closingTrial Balance | C31: Posting is correct leading to an accurate trial balance. | D31: Posting is mostly correct leading to a mostly correct trial balance. | E31: Posting has several errors leading to a trial balance with several errors. | F31: Posting is done poorly or not at all, leading to inaccurate or no trial balance. | G31: The submission does not meet this requirement.
B32: Steps 9-10 Grading Scale | C32: 20-18 | D32: 17-16 | E32: 15-14 | F32: 13-12 | G32: 11-0 | H32: 20
A33: Milestone 2 | B33: CO 3 - Given a trial balance sheet and economic financial information, analyze and record adjusting and closing journal entries leading to the creation and analysis of financial statements using the accrual accounting method. | C33: The student's submission fully and properly analyzes the adjusting information, resulting in an accurate adjusted trial balance and financial statements. The submission also contains closing entries that are fully and accurately prepared, resulting in an accurate post-closing trial balance. | D33: The student's submission analyzes the adjusting information, resulting in a mostly accurate adjusted trial balance and financial statements. The submission also contains closing entries that are accurately prepared, resulting in a mostly accurate post-closing trial balance. | E33: The student's submission demonstrates analysis of the adjusting information and the preparation of an adjusted trial balance and financial statemetns, althought several errors esit. The closing entries are prepared with several errors, resulting in the completion of a post-closing trial balance, that has limited accuracy. | F33: The student's submission demonstrates limited analysis of the adjusting information and the prepration of an adjusted trial balance and financial statements, however significant errors exist. The closing entries are prepared with significant errors, resulting in an inaccurate post-closing trial balance. | G33: The student's submission does not meet the criteria of the outcome.
B34: CO 3 Grading Scale | C34: 4 | D34: 3 | E34: 2 | F34: 1 | G34: 0 | H34: 4
A35: Milestone 3 | B35: Step 11 Computation of Ratios (21 points) | C35: All ratios computed are correct as to the formula used and the amounts | D35: Ratios computed are mostly correct as to the formula used and amounts | E35: Several ratios are computed incorrectly as to the formula and amounts used. | F35: Most ratios are computed incorrectly as to the formula and amounts used.Or no ratios computed. | G35: The submission does not meet this requirement.
B36: Step 11 Grading Scale | C36: 21-19 | D36: 18-17 | E36: 16-15 | F36: 14-13 | G36: 12-0 | H36: 21
A37: Milestone 3 | B37: Step 12 Interpretation of Ratios | C37: Good interpreation of all ratios and 2.Good demonstration of presentation skills with Voice Thread or narrated power point slides. | D37: Good interpreation of most of the ratios and 2. Few errors in Voice Thread or narrated power point presentation and average presentation skills. | E37: Interpreation of ratios lacks clarity and basic understanding of ratios is not visible. 2.Several errors in Voice Thread or narrated power point presentation and below average presentation skills. | F37: Interpreation of ratios is mostly incorrect or no interpretation of ratios is done. 2.Very poor or no Voice Thread or narrated power point presentation | G37: The submission does not meet this requirement.
B38: Step 12 Grading Scale | C38: 25-23 | D38: 22-20 | E38: 19-17 | F38: 16-15 | G38: 14-0 | H38: 25
A39: Milestone 3 | B39: CO 3 - Given a trial balance sheet and economic financial information, analyze and record adjusting and closing journal entries leading to the creation and analysis of financial statements using the accrual accounting method. | C39: The student's submission fully and properly calculates the appropriate ratios, and provides substantial analysis to support the evaluation of company performance. | D39: The student's submission properly calculates the appropriate ratios, and provides analysis that supports the evaluation of company performance. | E39: The student's submission calculates the appropriate ratios, although several errors exist in the calculations, leading to an evaluation of the company that has limited accuracy. | F39: The student's submission calculates the requested ratios, although significant errors exist in the calculations, leading to an inaccurate evaluation of the company's performance. | G39: The student's submission does not meet the criteria of the outcome.
B40: CO 3 Grading Scale | C40: 4 | D40: 3 | E40: 2 | F40: 1 | G40: 0 | H40: 4
